BEGIN:VCALENDAR
VERSION:2.0
PRODID:JMS Hockey
X-PUBLISHED-TTL:P1W
BEGIN:VEVENT
UID:69e7d4353d648
DTSTART:20120821T024000Z
SEQUENCE:0
TRANSP:OPAQUE
DTEND:20120821T041000Z
URL:http://jmshockey.com/games/4251
LOCATION:St Thomas Ice Arena
SUMMARY:Elite Game at St Thomas Ice Arena
CLASS:PUBLIC
DTSTAMP:20260421T144701Z
END:VEVENT
END:VCALENDAR