BEGIN:VCALENDAR
VERSION:2.0
PRODID:JMS Hockey
X-PUBLISHED-TTL:P1W
BEGIN:VEVENT
UID:69e7e06c86d52
DTSTART:20090331T021500Z
SEQUENCE:0
TRANSP:OPAQUE
DTEND:20090331T034500Z
URL:http://jmshockey.com/games/425
LOCATION:Burnsville Arena
SUMMARY:Level 2 Game at Burnsville Arena
CLASS:PUBLIC
DTSTAMP:20260421T153908Z
END:VEVENT
END:VCALENDAR