BEGIN:VCALENDAR
VERSION:2.0
PRODID:JMS Hockey
X-PUBLISHED-TTL:P1W
BEGIN:VEVENT
UID:69e7ea5a54de8
DTSTART:20120807T022000Z
SEQUENCE:0
TRANSP:OPAQUE
DTEND:20120807T035000Z
URL:http://jmshockey.com/games/4240
LOCATION:Roseville Skating Center
SUMMARY:Level 3 Game at Roseville Skating Center
CLASS:PUBLIC
DTSTAMP:20260421T162130Z
END:VEVENT
END:VCALENDAR