BEGIN:VCALENDAR
VERSION:2.0
PRODID:JMS Hockey
X-PUBLISHED-TTL:P1W
BEGIN:VEVENT
UID:69e7c14086a65
DTSTART:20120718T003000Z
SEQUENCE:0
TRANSP:OPAQUE
DTEND:20120718T020000Z
URL:http://jmshockey.com/games/4219
LOCATION:Roseville Skating Center
SUMMARY:Lower Level Game at Roseville Skating Center
CLASS:PUBLIC
DTSTAMP:20260421T132608Z
END:VEVENT
END:VCALENDAR