BEGIN:VCALENDAR
VERSION:2.0
PRODID:JMS Hockey
X-PUBLISHED-TTL:P1W
BEGIN:VEVENT
UID:69e7bd8a03f6d
DTSTART:20120714T013000Z
SEQUENCE:0
TRANSP:OPAQUE
DTEND:20120714T030000Z
URL:http://jmshockey.com/games/4218
LOCATION:Roseville Skating Center
SUMMARY:Level 2 Game at Roseville Skating Center
CLASS:PUBLIC
DTSTAMP:20260421T131018Z
END:VEVENT
END:VCALENDAR