BEGIN:VCALENDAR
VERSION:2.0
PRODID:JMS Hockey
X-PUBLISHED-TTL:P1W
BEGIN:VEVENT
UID:69e7bd8a2f8cd
DTSTART:20120707T013000Z
SEQUENCE:0
TRANSP:OPAQUE
DTEND:20120707T030000Z
URL:http://jmshockey.com/games/4216
LOCATION:Roseville Skating Center
SUMMARY:Level 2 Game at Roseville Skating Center
CLASS:PUBLIC
DTSTAMP:20260421T131018Z
END:VEVENT
END:VCALENDAR