BEGIN:VCALENDAR
VERSION:2.0
PRODID:JMS Hockey
X-PUBLISHED-TTL:P1W
BEGIN:VEVENT
UID:69e7e6d19af63
DTSTART:20120712T020000Z
SEQUENCE:0
TRANSP:OPAQUE
DTEND:20120712T033000Z
URL:http://jmshockey.com/games/4209
LOCATION:Maple Grove
SUMMARY:Level 3 Game at Maple Grove
CLASS:PUBLIC
DTSTAMP:20260421T160625Z
END:VEVENT
END:VCALENDAR