BEGIN:VCALENDAR
VERSION:2.0
PRODID:JMS Hockey
X-PUBLISHED-TTL:P1W
BEGIN:VEVENT
UID:69e7cae76ed6d
DTSTART:20120519T014500Z
SEQUENCE:0
TRANSP:OPAQUE
DTEND:20120519T031500Z
URL:http://jmshockey.com/games/4187
LOCATION:Augsburg
SUMMARY:Upper Level Game at Augsburg
CLASS:PUBLIC
DTSTAMP:20260421T140719Z
END:VEVENT
END:VCALENDAR