BEGIN:VCALENDAR
VERSION:2.0
PRODID:JMS Hockey
X-PUBLISHED-TTL:P1W
BEGIN:VEVENT
UID:69e7b9b0a7622
DTSTART:20120808T013000Z
SEQUENCE:0
TRANSP:OPAQUE
DTEND:20120808T030000Z
URL:http://jmshockey.com/games/4171
LOCATION:St Louis Park Rec Center
SUMMARY:Upper Level Game at St Louis Park Rec Center
CLASS:PUBLIC
DTSTAMP:20260421T125352Z
END:VEVENT
END:VCALENDAR