BEGIN:VCALENDAR
VERSION:2.0
PRODID:JMS Hockey
X-PUBLISHED-TTL:P1W
BEGIN:VEVENT
UID:69e849d96399a
DTSTART:20120725T013000Z
SEQUENCE:0
TRANSP:OPAQUE
DTEND:20120725T030000Z
URL:http://jmshockey.com/games/4165
LOCATION:St Louis Park Rec Center
SUMMARY:Upper Level Game at St Louis Park Rec Center
CLASS:PUBLIC
DTSTAMP:20260421T230857Z
END:VEVENT
END:VCALENDAR