BEGIN:VCALENDAR
VERSION:2.0
PRODID:JMS Hockey
X-PUBLISHED-TTL:P1W
BEGIN:VEVENT
UID:69e7ba1adff0b
DTSTART:20120721T003000Z
SEQUENCE:0
TRANSP:OPAQUE
DTEND:20120721T020000Z
URL:http://jmshockey.com/games/4163
LOCATION:St Louis Park Rec Center
SUMMARY:Upper Level Game at St Louis Park Rec Center
CLASS:PUBLIC
DTSTAMP:20260421T125538Z
END:VEVENT
END:VCALENDAR