BEGIN:VCALENDAR
VERSION:2.0
PRODID:JMS Hockey
X-PUBLISHED-TTL:P1W
BEGIN:VEVENT
UID:69e7dd5802221
DTSTART:20120704T013000Z
SEQUENCE:0
TRANSP:OPAQUE
DTEND:20120704T030000Z
URL:http://jmshockey.com/games/4156
LOCATION:St Louis Park Rec Center
SUMMARY:Upper Level Game at St Louis Park Rec Center
CLASS:PUBLIC
DTSTAMP:20260421T152600Z
END:VEVENT
END:VCALENDAR