BEGIN:VCALENDAR
VERSION:2.0
PRODID:JMS Hockey
X-PUBLISHED-TTL:P1W
BEGIN:VEVENT
UID:69e7c3bfba7a8
DTSTART:20120613T013000Z
SEQUENCE:0
TRANSP:OPAQUE
DTEND:20120613T030000Z
URL:http://jmshockey.com/games/4147
LOCATION:St Louis Park Rec Center
SUMMARY:Level 4 Game at St Louis Park Rec Center
CLASS:PUBLIC
DTSTAMP:20260421T133647Z
END:VEVENT
END:VCALENDAR