BEGIN:VCALENDAR
VERSION:2.0
PRODID:JMS Hockey
X-PUBLISHED-TTL:P1W
BEGIN:VEVENT
UID:69e7c3bd28669
DTSTART:20120818T011500Z
SEQUENCE:0
TRANSP:OPAQUE
DTEND:20120818T024500Z
URL:http://jmshockey.com/games/4138
LOCATION:Bloomington Ice Gardens
SUMMARY:Level 3 Game at Bloomington Ice Gardens
CLASS:PUBLIC
DTSTAMP:20260421T133645Z
END:VEVENT
END:VCALENDAR