BEGIN:VCALENDAR
VERSION:2.0
PRODID:JMS Hockey
X-PUBLISHED-TTL:P1W
BEGIN:VEVENT
UID:69e7c36553cae
DTSTART:20120728T011500Z
SEQUENCE:0
TRANSP:OPAQUE
DTEND:20120728T024500Z
URL:http://jmshockey.com/games/4135
LOCATION:Bloomington Ice Gardens
SUMMARY:Level 3 Game at Bloomington Ice Gardens
CLASS:PUBLIC
DTSTAMP:20260421T133517Z
END:VEVENT
END:VCALENDAR