BEGIN:VCALENDAR
VERSION:2.0
PRODID:JMS Hockey
X-PUBLISHED-TTL:P1W
BEGIN:VEVENT
UID:69e7d6677f4fb
DTSTART:20120714T010000Z
SEQUENCE:0
TRANSP:OPAQUE
DTEND:20120714T023000Z
URL:http://jmshockey.com/games/4133
LOCATION:Bloomington Ice Gardens
SUMMARY:Level 3 Game at Bloomington Ice Gardens
CLASS:PUBLIC
DTSTAMP:20260421T145623Z
END:VEVENT
END:VCALENDAR