BEGIN:VCALENDAR
VERSION:2.0
PRODID:JMS Hockey
X-PUBLISHED-TTL:P1W
BEGIN:VEVENT
UID:69e7d48ca9a6c
DTSTART:20120525T014500Z
SEQUENCE:0
TRANSP:OPAQUE
DTEND:20120525T031500Z
URL:http://jmshockey.com/games/4122
LOCATION:Roseville Skating Center
SUMMARY:Upper Level Game at Roseville Skating Center
CLASS:PUBLIC
DTSTAMP:20260421T144828Z
END:VEVENT
END:VCALENDAR