BEGIN:VCALENDAR
VERSION:2.0
PRODID:JMS Hockey
X-PUBLISHED-TTL:P1W
BEGIN:VEVENT
UID:69e7c1438cf55
DTSTART:20120516T011000Z
SEQUENCE:0
TRANSP:OPAQUE
DTEND:20120516T024000Z
URL:http://jmshockey.com/games/4120
LOCATION:Roseville Skating Center
SUMMARY:Lower Level Game at Roseville Skating Center
CLASS:PUBLIC
DTSTAMP:20260421T132611Z
END:VEVENT
END:VCALENDAR