BEGIN:VCALENDAR
VERSION:2.0
PRODID:JMS Hockey
X-PUBLISHED-TTL:P1W
BEGIN:VEVENT
UID:69e7d4362677c
DTSTART:20120502T004000Z
SEQUENCE:0
TRANSP:OPAQUE
DTEND:20120502T021000Z
URL:http://jmshockey.com/games/4111
LOCATION:Roseville Skating Center
SUMMARY:Lower Level Game at Roseville Skating Center
CLASS:PUBLIC
DTSTAMP:20260421T144702Z
END:VEVENT
END:VCALENDAR