BEGIN:VCALENDAR
VERSION:2.0
PRODID:JMS Hockey
X-PUBLISHED-TTL:P1W
BEGIN:VEVENT
UID:69e7cae0c4340
DTSTART:20120421T004500Z
SEQUENCE:0
TRANSP:OPAQUE
DTEND:20120421T021500Z
URL:http://jmshockey.com/games/4110
LOCATION:Brooklyn Park
SUMMARY:All level Game at Brooklyn Park
CLASS:PUBLIC
DTSTAMP:20260421T140712Z
END:VEVENT
END:VCALENDAR