BEGIN:VCALENDAR
VERSION:2.0
PRODID:JMS Hockey
X-PUBLISHED-TTL:P1W
BEGIN:VEVENT
UID:69e7c3bbd9107
DTSTART:20120428T014500Z
SEQUENCE:0
TRANSP:OPAQUE
DTEND:20120428T031500Z
URL:http://jmshockey.com/games/4102
LOCATION:Augsburg
SUMMARY:Level 3 Game at Augsburg
CLASS:PUBLIC
DTSTAMP:20260421T133643Z
END:VEVENT
END:VCALENDAR