BEGIN:VCALENDAR
VERSION:2.0
PRODID:JMS Hockey
X-PUBLISHED-TTL:P1W
BEGIN:VEVENT
UID:69e7c3547665c
DTSTART:20120612T024000Z
SEQUENCE:0
TRANSP:OPAQUE
DTEND:20120612T041000Z
URL:http://jmshockey.com/games/4082
LOCATION:St Thomas Ice Arena
SUMMARY:Elite Game at St Thomas Ice Arena
CLASS:PUBLIC
DTSTAMP:20260421T133500Z
END:VEVENT
END:VCALENDAR