BEGIN:VCALENDAR
VERSION:2.0
PRODID:JMS Hockey
X-PUBLISHED-TTL:P1W
BEGIN:VEVENT
UID:69e7c3a43186b
DTSTART:20120608T024000Z
SEQUENCE:0
TRANSP:OPAQUE
DTEND:20120608T041000Z
URL:http://jmshockey.com/games/4081
LOCATION:St Thomas Ice Arena
SUMMARY:All level Game at St Thomas Ice Arena
CLASS:PUBLIC
DTSTAMP:20260421T133620Z
END:VEVENT
END:VCALENDAR