BEGIN:VCALENDAR
VERSION:2.0
PRODID:JMS Hockey
X-PUBLISHED-TTL:P1W
BEGIN:VEVENT
UID:69e7b93c92b5e
DTSTART:20090324T004500Z
SEQUENCE:0
TRANSP:OPAQUE
DTEND:20090324T021500Z
URL:http://jmshockey.com/games/408
LOCATION:Breck Anderson Arena
SUMMARY:Level 3 Game at Breck Anderson Arena
CLASS:PUBLIC
DTSTAMP:20260421T125156Z
END:VEVENT
END:VCALENDAR