BEGIN:VCALENDAR
VERSION:2.0
PRODID:JMS Hockey
X-PUBLISHED-TTL:P1W
BEGIN:VEVENT
UID:69e7879f95130
DTSTART:20120515T024000Z
SEQUENCE:0
TRANSP:OPAQUE
DTEND:20120515T041000Z
URL:http://jmshockey.com/games/4074
LOCATION:St Thomas Ice Arena
SUMMARY:Elite Game at St Thomas Ice Arena
CLASS:PUBLIC
DTSTAMP:20260421T092015Z
END:VEVENT
END:VCALENDAR