BEGIN:VCALENDAR
VERSION:2.0
PRODID:JMS Hockey
X-PUBLISHED-TTL:P1W
BEGIN:VEVENT
UID:69e789e24866f
DTSTART:20120501T024000Z
SEQUENCE:0
TRANSP:OPAQUE
DTEND:20120501T041000Z
URL:http://jmshockey.com/games/4070
LOCATION:St Thomas Ice Arena
SUMMARY:Elite Game at St Thomas Ice Arena
CLASS:PUBLIC
DTSTAMP:20260421T092954Z
END:VEVENT
END:VCALENDAR