BEGIN:VCALENDAR
VERSION:2.0
PRODID:JMS Hockey
X-PUBLISHED-TTL:P1W
BEGIN:VEVENT
UID:69e7f5309a14a
DTSTART:20120327T024000Z
SEQUENCE:0
TRANSP:OPAQUE
DTEND:20120327T041000Z
URL:http://jmshockey.com/games/4060
LOCATION:St Thomas Ice Arena
SUMMARY:Elite Game at St Thomas Ice Arena
CLASS:PUBLIC
DTSTAMP:20260421T170744Z
END:VEVENT
END:VCALENDAR