BEGIN:VCALENDAR
VERSION:2.0
PRODID:JMS Hockey
X-PUBLISHED-TTL:P1W
BEGIN:VEVENT
UID:69e7bd89cb511
DTSTART:20120323T024000Z
SEQUENCE:0
TRANSP:OPAQUE
DTEND:20120323T041000Z
URL:http://jmshockey.com/games/4059
LOCATION:St Thomas Ice Arena
SUMMARY:All level Game at St Thomas Ice Arena
CLASS:PUBLIC
DTSTAMP:20260421T131017Z
END:VEVENT
END:VCALENDAR