BEGIN:VCALENDAR
VERSION:2.0
PRODID:JMS Hockey
X-PUBLISHED-TTL:P1W
BEGIN:VEVENT
UID:69e7c76685f37
DTSTART:20120330T011500Z
SEQUENCE:0
TRANSP:OPAQUE
DTEND:20120330T024500Z
URL:http://jmshockey.com/games/4050
LOCATION:Roseville Skating Center
SUMMARY:Upper Level Game at Roseville Skating Center
CLASS:PUBLIC
DTSTAMP:20260421T135222Z
END:VEVENT
END:VCALENDAR