BEGIN:VCALENDAR
VERSION:2.0
PRODID:JMS Hockey
X-PUBLISHED-TTL:P1W
BEGIN:VEVENT
UID:69e7b9df98f88
DTSTART:20120426T024500Z
SEQUENCE:0
TRANSP:OPAQUE
DTEND:20120426T041500Z
URL:http://jmshockey.com/games/4042
LOCATION:Maple Grove
SUMMARY:Level 3 Game at Maple Grove
CLASS:PUBLIC
DTSTAMP:20260421T125439Z
END:VEVENT
END:VCALENDAR