BEGIN:VCALENDAR
VERSION:2.0
PRODID:JMS Hockey
X-PUBLISHED-TTL:P1W
BEGIN:VEVENT
UID:69e7e9e2b85bf
DTSTART:20120405T011500Z
SEQUENCE:0
TRANSP:OPAQUE
DTEND:20120405T024500Z
URL:http://jmshockey.com/games/4039
LOCATION:Maple Grove
SUMMARY:Level 3 Game at Maple Grove
CLASS:PUBLIC
DTSTAMP:20260421T161930Z
END:VEVENT
END:VCALENDAR