BEGIN:VCALENDAR
VERSION:2.0
PRODID:JMS Hockey
X-PUBLISHED-TTL:P1W
BEGIN:VEVENT
UID:69e7c52370827
DTSTART:20120523T005000Z
SEQUENCE:0
TRANSP:OPAQUE
DTEND:20120523T022000Z
URL:http://jmshockey.com/games/4034
LOCATION:Burnsville Arena
SUMMARY:All level Game at Burnsville Arena
CLASS:PUBLIC
DTSTAMP:20260421T134243Z
END:VEVENT
END:VCALENDAR