BEGIN:VCALENDAR
VERSION:2.0
PRODID:JMS Hockey
X-PUBLISHED-TTL:P1W
BEGIN:VEVENT
UID:69e7b35cebb4d
DTSTART:20120425T005000Z
SEQUENCE:0
TRANSP:OPAQUE
DTEND:20120425T022000Z
URL:http://jmshockey.com/games/4031
LOCATION:Burnsville Arena
SUMMARY:All level Game at Burnsville Arena
CLASS:PUBLIC
DTSTAMP:20260421T122652Z
END:VEVENT
END:VCALENDAR