BEGIN:VCALENDAR
VERSION:2.0
PRODID:JMS Hockey
X-PUBLISHED-TTL:P1W
BEGIN:VEVENT
UID:69e7cadf3ba37
DTSTART:20120502T000000Z
SEQUENCE:0
TRANSP:OPAQUE
DTEND:20120502T013000Z
URL:http://jmshockey.com/games/4030
LOCATION:Burnsville Arena
SUMMARY:All level Game at Burnsville Arena
CLASS:PUBLIC
DTSTAMP:20260421T140711Z
END:VEVENT
END:VCALENDAR