BEGIN:VCALENDAR
VERSION:2.0
PRODID:JMS Hockey
X-PUBLISHED-TTL:P1W
BEGIN:VEVENT
UID:69e7d84ce2cb2
DTSTART:20120418T005000Z
SEQUENCE:0
TRANSP:OPAQUE
DTEND:20120418T022000Z
URL:http://jmshockey.com/games/4029
LOCATION:Burnsville Arena
SUMMARY:All level Game at Burnsville Arena
CLASS:PUBLIC
DTSTAMP:20260421T150428Z
END:VEVENT
END:VCALENDAR