BEGIN:VCALENDAR
VERSION:2.0
PRODID:JMS Hockey
X-PUBLISHED-TTL:P1W
BEGIN:VEVENT
UID:69e79a3c37bb7
DTSTART:20120316T024000Z
SEQUENCE:0
TRANSP:OPAQUE
DTEND:20120316T041000Z
URL:http://jmshockey.com/games/4024
LOCATION:St Thomas Ice Arena
SUMMARY:All level Game at St Thomas Ice Arena
CLASS:PUBLIC
DTSTAMP:20260421T103940Z
END:VEVENT
END:VCALENDAR