BEGIN:VCALENDAR
VERSION:2.0
PRODID:JMS Hockey
X-PUBLISHED-TTL:P1W
BEGIN:VEVENT
UID:69e80e19147e2
DTSTART:20090321T013000Z
SEQUENCE:0
TRANSP:OPAQUE
DTEND:20090321T030000Z
URL:http://jmshockey.com/games/402
LOCATION:Richfield Ice Arena
SUMMARY:Level 1 Game at Richfield Ice Arena
CLASS:PUBLIC
DTSTAMP:20260421T185401Z
END:VEVENT
END:VCALENDAR