BEGIN:VCALENDAR
VERSION:2.0
PRODID:JMS Hockey
X-PUBLISHED-TTL:P1W
BEGIN:VEVENT
UID:69e7c5049b9fb
DTSTART:20120824T023000Z
SEQUENCE:0
TRANSP:OPAQUE
DTEND:20120824T040000Z
URL:http://jmshockey.com/games/4018
LOCATION:Doug Woog Arena (Wakota)
SUMMARY:Lower Level Game at Doug Woog Arena (Wakota)
CLASS:PUBLIC
DTSTAMP:20260421T134212Z
END:VEVENT
END:VCALENDAR