BEGIN:VCALENDAR
VERSION:2.0
PRODID:JMS Hockey
X-PUBLISHED-TTL:P1W
BEGIN:VEVENT
UID:69e7c173899d1
DTSTART:20120727T023000Z
SEQUENCE:0
TRANSP:OPAQUE
DTEND:20120727T040000Z
URL:http://jmshockey.com/games/4015
LOCATION:Doug Woog Arena (Wakota)
SUMMARY:Lower Level Game at Doug Woog Arena (Wakota)
CLASS:PUBLIC
DTSTAMP:20260421T132659Z
END:VEVENT
END:VCALENDAR