BEGIN:VCALENDAR
VERSION:2.0
PRODID:JMS Hockey
X-PUBLISHED-TTL:P1W
BEGIN:VEVENT
UID:69e7cea7b4be4
DTSTART:20120720T023000Z
SEQUENCE:0
TRANSP:OPAQUE
DTEND:20120720T040000Z
URL:http://jmshockey.com/games/4014
LOCATION:Doug Woog Arena (Wakota)
SUMMARY:Lower Level Game at Doug Woog Arena (Wakota)
CLASS:PUBLIC
DTSTAMP:20260421T142319Z
END:VEVENT
END:VCALENDAR