BEGIN:VCALENDAR
VERSION:2.0
PRODID:JMS Hockey
X-PUBLISHED-TTL:P1W
BEGIN:VEVENT
UID:69e7ad4c00d86
DTSTART:20120511T021000Z
SEQUENCE:0
TRANSP:OPAQUE
DTEND:20120511T034000Z
URL:http://jmshockey.com/games/4000
LOCATION:Doug Woog Arena (Wakota)
SUMMARY:Lower Level Game at Doug Woog Arena (Wakota)
CLASS:PUBLIC
DTSTAMP:20260421T120100Z
END:VEVENT
END:VCALENDAR