BEGIN:VCALENDAR
VERSION:2.0
PRODID:JMS Hockey
X-PUBLISHED-TTL:P1W
BEGIN:VEVENT
UID:69e7dd5045d26
DTSTART:20120420T020000Z
SEQUENCE:0
TRANSP:OPAQUE
DTEND:20120420T033000Z
URL:http://jmshockey.com/games/3997
LOCATION:Doug Woog Arena (Wakota)
SUMMARY:Lower Level Game at Doug Woog Arena (Wakota)
CLASS:PUBLIC
DTSTAMP:20260421T152552Z
END:VEVENT
END:VCALENDAR