BEGIN:VCALENDAR
VERSION:2.0
PRODID:JMS Hockey
X-PUBLISHED-TTL:P1W
BEGIN:VEVENT
UID:69e7cadcbf8a9
DTSTART:20120406T021000Z
SEQUENCE:0
TRANSP:OPAQUE
DTEND:20120406T034000Z
URL:http://jmshockey.com/games/3995
LOCATION:Doug Woog Arena (Wakota)
SUMMARY:Lower Level Game at Doug Woog Arena (Wakota)
CLASS:PUBLIC
DTSTAMP:20260421T140708Z
END:VEVENT
END:VCALENDAR