BEGIN:VCALENDAR
VERSION:2.0
PRODID:JMS Hockey
X-PUBLISHED-TTL:P1W
BEGIN:VEVENT
UID:69e79a235eea8
DTSTART:20120801T020000Z
SEQUENCE:0
TRANSP:OPAQUE
DTEND:20120801T033000Z
URL:http://jmshockey.com/games/3990
LOCATION:Inver Grove Heights Community Center
SUMMARY:Upper Level Game at Inver Grove Heights Community Center
CLASS:PUBLIC
DTSTAMP:20260421T103915Z
END:VEVENT
END:VCALENDAR