BEGIN:VCALENDAR
VERSION:2.0
PRODID:JMS Hockey
X-PUBLISHED-TTL:P1W
BEGIN:VEVENT
UID:69e7c317860ee
DTSTART:20120523T015000Z
SEQUENCE:0
TRANSP:OPAQUE
DTEND:20120523T032000Z
URL:http://jmshockey.com/games/3981
LOCATION:Inver Grove Heights Community Center
SUMMARY:Upper Level Game at Inver Grove Heights Community Center
CLASS:PUBLIC
DTSTAMP:20260421T133359Z
END:VEVENT
END:VCALENDAR