BEGIN:VCALENDAR
VERSION:2.0
PRODID:JMS Hockey
X-PUBLISHED-TTL:P1W
BEGIN:VEVENT
UID:69e79a09a706e
DTSTART:20120509T022000Z
SEQUENCE:0
TRANSP:OPAQUE
DTEND:20120509T035000Z
URL:http://jmshockey.com/games/3980
LOCATION:Inver Grove Heights Community Center
SUMMARY:Upper Level Game at Inver Grove Heights Community Center
CLASS:PUBLIC
DTSTAMP:20260421T103849Z
END:VEVENT
END:VCALENDAR