BEGIN:VCALENDAR
VERSION:2.0
PRODID:JMS Hockey
X-PUBLISHED-TTL:P1W
BEGIN:VEVENT
UID:69e7e94104541
DTSTART:20090321T003000Z
SEQUENCE:0
TRANSP:OPAQUE
DTEND:20090321T020000Z
URL:http://jmshockey.com/games/398
LOCATION:Plymouth Ice Center
SUMMARY:Level 3 Game at Plymouth Ice Center
CLASS:PUBLIC
DTSTAMP:20260421T161649Z
END:VEVENT
END:VCALENDAR