BEGIN:VCALENDAR
VERSION:2.0
PRODID:JMS Hockey
X-PUBLISHED-TTL:P1W
BEGIN:VEVENT
UID:69e7c123dc08d
DTSTART:20120523T004500Z
SEQUENCE:0
TRANSP:OPAQUE
DTEND:20120523T021500Z
URL:http://jmshockey.com/games/3970
LOCATION:St Louis Park Rec Center
SUMMARY:Level 4 Game at St Louis Park Rec Center
CLASS:PUBLIC
DTSTAMP:20260421T132539Z
END:VEVENT
END:VCALENDAR