BEGIN:VCALENDAR
VERSION:2.0
PRODID:JMS Hockey
X-PUBLISHED-TTL:P1W
BEGIN:VEVENT
UID:69e7cb37d2da2
DTSTART:20120321T023000Z
SEQUENCE:0
TRANSP:OPAQUE
DTEND:20120321T040000Z
URL:http://jmshockey.com/games/3950
LOCATION:St Louis Park Rec Center
SUMMARY:Level 4 Game at St Louis Park Rec Center
CLASS:PUBLIC
DTSTAMP:20260421T140839Z
END:VEVENT
END:VCALENDAR