BEGIN:VCALENDAR
VERSION:2.0
PRODID:JMS Hockey
X-PUBLISHED-TTL:P1W
BEGIN:VEVENT
UID:69e7d808cf3c4
DTSTART:20120330T011500Z
SEQUENCE:0
TRANSP:OPAQUE
DTEND:20120330T024500Z
URL:http://jmshockey.com/games/3947
LOCATION:New Hope Ice Arena
SUMMARY:Level 5 Game at New Hope Ice Arena
CLASS:PUBLIC
DTSTAMP:20260421T150320Z
END:VEVENT
END:VCALENDAR